BEGIN:VCALENDAR
VERSION:2.0
PRODID:-//FMRC - ECPv6.15.17.1//NONSGML v1.0//EN
CALSCALE:GREGORIAN
METHOD:PUBLISH
X-ORIGINAL-URL:https://www.fmrc.com.au
X-WR-CALDESC:Events for FMRC
REFRESH-INTERVAL;VALUE=DURATION:PT1H
X-Robots-Tag:noindex
X-PUBLISHED-TTL:PT1H
BEGIN:VTIMEZONE
TZID:Australia/Sydney
BEGIN:STANDARD
TZOFFSETFROM:+1100
TZOFFSETTO:+1000
TZNAME:AEST
DTSTART:20170401T160000
END:STANDARD
BEGIN:DAYLIGHT
TZOFFSETFROM:+1000
TZOFFSETTO:+1100
TZNAME:AEDT
DTSTART:20170930T160000
END:DAYLIGHT
BEGIN:STANDARD
TZOFFSETFROM:+1100
TZOFFSETTO:+1000
TZNAME:AEST
DTSTART:20180331T160000
END:STANDARD
BEGIN:DAYLIGHT
TZOFFSETFROM:+1000
TZOFFSETTO:+1100
TZNAME:AEDT
DTSTART:20181006T160000
END:DAYLIGHT
BEGIN:STANDARD
TZOFFSETFROM:+1100
TZOFFSETTO:+1000
TZNAME:AEST
DTSTART:20190406T160000
END:STANDARD
BEGIN:DAYLIGHT
TZOFFSETFROM:+1000
TZOFFSETTO:+1100
TZNAME:AEDT
DTSTART:20191005T160000
END:DAYLIGHT
BEGIN:STANDARD
TZOFFSETFROM:+1100
TZOFFSETTO:+1000
TZNAME:AEST
DTSTART:20200404T160000
END:STANDARD
BEGIN:DAYLIGHT
TZOFFSETFROM:+1000
TZOFFSETTO:+1100
TZNAME:AEDT
DTSTART:20201003T160000
END:DAYLIGHT
BEGIN:STANDARD
TZOFFSETFROM:+1100
TZOFFSETTO:+1000
TZNAME:AEST
DTSTART:20210403T160000
END:STANDARD
BEGIN:DAYLIGHT
TZOFFSETFROM:+1000
TZOFFSETTO:+1100
TZNAME:AEDT
DTSTART:20211002T160000
END:DAYLIGHT
BEGIN:STANDARD
TZOFFSETFROM:+1100
TZOFFSETTO:+1000
TZNAME:AEST
DTSTART:20220402T160000
END:STANDARD
BEGIN:DAYLIGHT
TZOFFSETFROM:+1000
TZOFFSETTO:+1100
TZNAME:AEDT
DTSTART:20221001T160000
END:DAYLIGHT
BEGIN:STANDARD
TZOFFSETFROM:+1100
TZOFFSETTO:+1000
TZNAME:AEST
DTSTART:20230401T160000
END:STANDARD
BEGIN:DAYLIGHT
TZOFFSETFROM:+1000
TZOFFSETTO:+1100
TZNAME:AEDT
DTSTART:20230930T160000
END:DAYLIGHT
BEGIN:STANDARD
TZOFFSETFROM:+1100
TZOFFSETTO:+1000
TZNAME:AEST
DTSTART:20240406T160000
END:STANDARD
BEGIN:DAYLIGHT
TZOFFSETFROM:+1000
TZOFFSETTO:+1100
TZNAME:AEDT
DTSTART:20241005T160000
END:DAYLIGHT
BEGIN:STANDARD
TZOFFSETFROM:+1100
TZOFFSETTO:+1000
TZNAME:AEST
DTSTART:20250405T160000
END:STANDARD
BEGIN:DAYLIGHT
TZOFFSETFROM:+1000
TZOFFSETTO:+1100
TZNAME:AEDT
DTSTART:20251004T160000
END:DAYLIGHT
BEGIN:STANDARD
TZOFFSETFROM:+1100
TZOFFSETTO:+1000
TZNAME:AEST
DTSTART:20260404T160000
END:STANDARD
BEGIN:DAYLIGHT
TZOFFSETFROM:+1000
TZOFFSETTO:+1100
TZNAME:AEDT
DTSTART:20261003T160000
END:DAYLIGHT
BEGIN:STANDARD
TZOFFSETFROM:+1100
TZOFFSETTO:+1000
TZNAME:AEST
DTSTART:20270403T160000
END:STANDARD
BEGIN:DAYLIGHT
TZOFFSETFROM:+1000
TZOFFSETTO:+1100
TZNAME:AEDT
DTSTART:20271002T160000
END:DAYLIGHT
END:VTIMEZONE
BEGIN:VEVENT
DTSTART;TZID=Australia/Sydney:20260217T083000
DTEND;TZID=Australia/Sydney:20260217T100000
DTSTAMP:20260420T024630
CREATED:20251112T222913Z
LAST-MODIFIED:20260210T221425Z
UID:10000277-1771317000-1771322400@www.fmrc.com.au
SUMMARY:Successful Succession and Exit Strategies February 2026
DESCRIPTION:Sam Coupland developed this program to provide you with novel strategies for bringing new equity owners into your business or funding an external acquirer or merger partner. \nThe workshop will be delivered as a one-and-a-half-hour live stream session\, followed by a one-on-one strategy session with Sam Coupland tailored to your specific circumstances. \n 
URL:https://www.fmrc.com.au/event/successful-succession-and-exit-strategies-february-2026
LOCATION:Succession 2026\, Meeting ID: 825 1343 3349 Passcode: SS@2026F\, Zoom Video Conferencing\, https://us02web.zoom.us/j/82513433349
CATEGORIES:Seminars & Workshops,Successful Succession And Exit Strategies
END:VEVENT
BEGIN:VEVENT
DTSTART;TZID=Australia/Sydney:20250812T083000
DTEND;TZID=Australia/Sydney:20250812T100000
DTSTAMP:20260420T024630
CREATED:20250624T042416Z
LAST-MODIFIED:20250806T232959Z
UID:10000259-1754987400-1754992800@www.fmrc.com.au
SUMMARY:Successful Succession and Exit Strategies August 2025
DESCRIPTION:Sam Coupland developed this program to provide you with novel strategies for bringing new equity owners into your business or funding an external acquirer or merger partner. \nThe workshop will be delivered as a one-and-a-half-hour live stream session\, followed by a one-on-one strategy session with Sam Coupland tailored to your specific circumstances. \n 
URL:https://www.fmrc.com.au/event/successful-succession-and-exit-strategies-august-2025
LOCATION:Succession 2025\, Meeting ID: 864 8148 8633 Passcode: SS@2025F\, Zoom Video Conferencing\, https://us02web.zoom.us/j/86481488633
CATEGORIES:Seminars & Workshops,Successful Succession And Exit Strategies
END:VEVENT
BEGIN:VEVENT
DTSTART;TZID=Australia/Sydney:20240820T083000
DTEND;TZID=Australia/Sydney:20240820T093000
DTSTAMP:20260420T024630
CREATED:20240710T021836Z
LAST-MODIFIED:20240802T004353Z
UID:10000231-1724142600-1724146200@www.fmrc.com.au
SUMMARY:Successful Succession and Exit Strategies in Uncertain Times 20 August 2024
DESCRIPTION:Well managed\, profitable firms with a solid client base are highly sought after. The owners of these firms need to have a well thought out strategy to fully realise the value tied up in the practice. The current economic uncertainty provides some challenges in relation to succession if traditional approaches are adopted. Sam Coupland developed this program to provide you with novel strategies for bringing new equity owners into your business or funding an external acquirer or merger partner. \nThe workshop will be delivered as an one hour live stream session plus a one-on-one session to strategise your specific circumstances. \n 
URL:https://www.fmrc.com.au/event/successful-succession-and-exit-strategies-in-uncertain-times-20-august-2024
LOCATION:Successful Succession Aug 2024\, Meeting ID: 825 9899 1071 Passcode: SS824!\, Zoom Video Conferencing\, https://us02web.zoom.us/j/82598991071
CATEGORIES:Seminars & Workshops,Successful Succession And Exit Strategies
END:VEVENT
BEGIN:VEVENT
DTSTART;TZID=Australia/Sydney:20231206T083000
DTEND;TZID=Australia/Sydney:20231206T093000
DTSTAMP:20260420T024630
CREATED:20231024T015834Z
LAST-MODIFIED:20231205T062445Z
UID:10000218-1701851400-1701855000@www.fmrc.com.au
SUMMARY:Successful Succession and Exit Strategies in Uncertain Times 6 December 2023
DESCRIPTION:Well managed\, profitable firms with a solid client base are highly sought after. The owners of these firms need to have a well thought out strategy to fully realise the value tied up in the practice. The current economic uncertainty provides some challenges in relation to succession if traditional approaches are adopted. Sam Coupland developed this program to provide you with novel strategies for bringing new equity owners into your business or funding an external acquirer or merger partner. \nThe workshop will be delivered as an one hour live stream session plus a one-on-one session to strategise your specific circumstances. \n 
URL:https://www.fmrc.com.au/event/successful-succession-and-exit-strategies-in-uncertain-times-6-december-2023-2
LOCATION:https://us02web.zoom.us/j/86964129089\, Meeting ID: 869 6412 9089 Passcode: ss62023\, Zoom Video Conferencing\, https://us02web.zoom.us/j/86964129089
CATEGORIES:Seminars & Workshops,Successful Succession And Exit Strategies
END:VEVENT
BEGIN:VEVENT
DTSTART;TZID=Australia/Sydney:20231205T083000
DTEND;TZID=Australia/Sydney:20231205T093000
DTSTAMP:20260420T024630
CREATED:20231024T015538Z
LAST-MODIFIED:20231204T012710Z
UID:10000217-1701765000-1701768600@www.fmrc.com.au
SUMMARY:Successful Succession and Exit Strategies in Uncertain Times 5 December 2023
DESCRIPTION:Well managed\, profitable firms with a solid client base are highly sought after. The owners of these firms need to have a well thought out strategy to fully realise the value tied up in the practice. The current economic uncertainty provides some challenges in relation to succession if traditional approaches are adopted. Sam Coupland developed this program to provide you with novel strategies for bringing new equity owners into your business or funding an external acquirer or merger partner. \nThe workshop will be delivered as an one hour live stream session plus a one-on-one session to strategise your specific circumstances. \n 
URL:https://www.fmrc.com.au/event/successful-succession-and-exit-strategies-in-uncertain-times-5-december-2023
LOCATION:https://us02web.zoom.us/j/89420350297\, Meeting ID: 894 2035 0297 Passcode: 52023ss\, Zoom Video Conferencing\, https://us02web.zoom.us/j/89420350297
CATEGORIES:Seminars & Workshops,Successful Succession And Exit Strategies
END:VEVENT
BEGIN:VEVENT
DTSTART;TZID=Australia/Sydney:20220803T083000
DTEND;TZID=Australia/Sydney:20220803T093000
DTSTAMP:20260420T024630
CREATED:20220615T234243Z
LAST-MODIFIED:20220719T005247Z
UID:10000074-1659515400-1659519000@www.fmrc.com.au
SUMMARY:Successful Succession and Exit Strategies in Uncertain Times 3 August
DESCRIPTION:The current economic uncertainty provides challenges in relation to succession if traditional approaches are adopted.  Sam Coupland developed this program to provide you with the latest thinking in how to bring new equity owners into your firm or sourcing an external acquirer or merger partner.   \nThe workshop will be delivered as an one hour live stream session plus a one-on-one session to strategise your specific circumstances. \n 
URL:https://www.fmrc.com.au/event/successful-succession-and-exit-strategies-in-uncertain-times-3-august-2
LOCATION:https://us02web.zoom.us/j/87661474370\, Meeting ID: 876 6147 4370 Passcode: fmrc22ss\, Zoom Video Conferencing
CATEGORIES:Seminars & Workshops,Successful Succession And Exit Strategies
END:VEVENT
BEGIN:VEVENT
DTSTART;TZID=Australia/Sydney:20220802T083000
DTEND;TZID=Australia/Sydney:20220802T093000
DTSTAMP:20260420T024630
CREATED:20220615T234017Z
LAST-MODIFIED:20220718T051647Z
UID:10000073-1659429000-1659432600@www.fmrc.com.au
SUMMARY:Successful Succession and Exit Strategies in Uncertain Times 2 August
DESCRIPTION:The current economic uncertainty provides challenges in relation to succession if traditional approaches are adopted.  Sam Coupland developed this program to provide you with the latest thinking in how to bring new equity owners into your firm or sourcing an external acquirer or merger partner.   \nThe workshop will be delivered as an one hour live stream session plus a one-on-one session to strategise your specific circumstances. \n 
URL:https://www.fmrc.com.au/event/successful-succession-and-exit-strategies-in-uncertain-times-2-august
LOCATION:https://us02web.zoom.us/j/87473448747\, Meeting ID: 874 7344 8747 Passcode: fmrc22ss\, Zoom Video Conferencing
CATEGORIES:Seminars & Workshops,Successful Succession And Exit Strategies
END:VEVENT
BEGIN:VEVENT
DTSTART;TZID=Australia/Sydney:20210318T083000
DTEND;TZID=Australia/Sydney:20210318T093000
DTSTAMP:20260420T024630
CREATED:20210127T001253Z
LAST-MODIFIED:20210127T001253Z
UID:10000067-1616056200-1616059800@www.fmrc.com.au
SUMMARY:Successful Succession and Exit Strategies in Uncertain Times 18 March 2021
DESCRIPTION:The current economic uncertainty provides challenges in relation to succession if traditional approaches are adopted.  Sam Coupland developed this program to provide you with the latest thinking in how to bring new equity owners into your firm or sourcing an external acquirer or merger partner.   \nThe workshop will be delivered as an one hour live stream session plus a one-on-one session to strategise your specific circumstances. \n 
URL:https://www.fmrc.com.au/event/successful-succession-and-exit-strategies-in-uncertain-times-18-march-2021
LOCATION:https://us02web.zoom.us/j/89520090742\, Meeting ID: 895 2009 0742 Passcode: fmrcpmc\, Zoom Video Conferencing
CATEGORIES:Successful Succession And Exit Strategies
END:VEVENT
BEGIN:VEVENT
DTSTART;TZID=Australia/Sydney:20210317T083000
DTEND;TZID=Australia/Sydney:20210317T093000
DTSTAMP:20260420T024630
CREATED:20210127T000140Z
LAST-MODIFIED:20210127T000140Z
UID:10000066-1615969800-1615973400@www.fmrc.com.au
SUMMARY:Successful Succession and Exit Strategies in Uncertain Times 17 March 2021
DESCRIPTION:The current economic uncertainty provides some challenges in relation to succession if traditional approaches are adopted.  Sam Coupland has developed this program to provide you with novel strategies for bringing new equity owners into your firm or sourcing an external acquirer or merger partner. \nThe workshop will be delivered as an one hour live stream session plus a one-on-one session to strategise your specific circumstances. \n 
URL:https://www.fmrc.com.au/event/successful-succession-and-exit-strategies-17-mar-2021
LOCATION:https://us02web.zoom.us/j/89520090742\, Meeting ID: 895 2009 0742 Passcode: fmrcpmc\, Zoom Video Conferencing
CATEGORIES:Successful Succession And Exit Strategies
END:VEVENT
BEGIN:VEVENT
DTSTART;TZID=Australia/Sydney:20200616T083000
DTEND;TZID=Australia/Sydney:20200617T093000
DTSTAMP:20260420T024630
CREATED:20200420T042119Z
LAST-MODIFIED:20200422T011051Z
UID:10000188-1592296200-1592386200@www.fmrc.com.au
SUMMARY:Successful Succession and Exit Strategies in Uncertain Times 16 and 17 June 2020
DESCRIPTION:The current economic uncertainty provides some challenges in relation to succession if traditional approaches are adopted.  Sam Coupland has developed this program to provide you with novel strategies for bringing new equity owners into your firm or sourcing an external acquirer or merger partner. \nThe workshop will be delivered as two one hour live stream sessions plus a one-on-one session to strategise your specific circumstances. \n 
URL:https://www.fmrc.com.au/event/successful-succession-and-exit-strategies-in-uncertain-times-16-and-17-june-2020
LOCATION:https://us02web.zoom.us/j/89520090742\, Meeting ID: 895 2009 0742 Passcode: fmrcpmc\, Zoom Video Conferencing
CATEGORIES:Successful Succession And Exit Strategies
END:VEVENT
BEGIN:VEVENT
DTSTART;TZID=Australia/Sydney:20191122T090000
DTEND;TZID=Australia/Sydney:20191122T130000
DTSTAMP:20260420T024630
CREATED:20190923T011246Z
LAST-MODIFIED:20191030T001934Z
UID:10000051-1574413200-1574427600@www.fmrc.com.au
SUMMARY:Successful Succession and Exit Strategies Melbourne
DESCRIPTION:This intensive workshop will equip you with the skills to ensure a smooth and successful transition of your practice from one generation to the next. \nThe most significant concern for practitioners working in small-medium sized firms or operating as a sole-practitioner centre around issues of succession planning. Well managed\, profitable firms with a solid client base are highly sought after. The owners of these firms need to have a well thought out strategy to fully realise the value tied up in the practice.\nThis workshop has been developed to provide you with a clear understanding of how best to prepare your businesses for sale and implement an effective and robust succession plan.
URL:https://www.fmrc.com.au/event/successful-succession-and-exit-strategies-melbourne-2019
LOCATION:Oaks On Collins\, 480 Collins Street\, Melbourne\, VIC\, 3000\, Australia
CATEGORIES:Successful Succession And Exit Strategies
GEO:-37.817664;144.957957
X-APPLE-STRUCTURED-LOCATION;VALUE=URI;X-ADDRESS=Oaks On Collins 480 Collins Street Melbourne VIC 3000 Australia;X-APPLE-RADIUS=500;X-TITLE=480 Collins Street:geo:144.957957,-37.817664
END:VEVENT
BEGIN:VEVENT
DTSTART;TZID=Australia/Sydney:20191121T090000
DTEND;TZID=Australia/Sydney:20191121T130000
DTSTAMP:20260420T024630
CREATED:20190923T005801Z
LAST-MODIFIED:20200421T055110Z
UID:10000186-1574326800-1574341200@www.fmrc.com.au
SUMMARY:Successful Succession and Exit Strategies Sydney
DESCRIPTION:This intensive workshop will equip you with the skills to ensure a smooth and successful transition of your practice from one generation to the next. \nThe most significant concern for practitioners working in small-medium sized firms or operating as a sole-practitioner centre around issues of succession planning. Well managed\, profitable firms with a solid client base are highly sought after. The owners of these firms need to have a well thought out strategy to fully realise the value tied up in the practice.\nThis workshop has been developed to provide you with a clear understanding of how best to prepare your businesses for sale and implement an effective and robust succession plan.
URL:https://www.fmrc.com.au/event/successful-succession-and-exit-strategies-sydney-2019
LOCATION:Chartered Accountants Australia and NZ\, 33 Erskine Street\, Sydney\, New South Wales\, 2000\, Australia
CATEGORIES:Successful Succession And Exit Strategies
GEO:-33.867021;151.203843
X-APPLE-STRUCTURED-LOCATION;VALUE=URI;X-ADDRESS=Chartered Accountants Australia and NZ 33 Erskine Street Sydney New South Wales 2000 Australia;X-APPLE-RADIUS=500;X-TITLE=33 Erskine Street:geo:151.203843,-33.867021
END:VEVENT
BEGIN:VEVENT
DTSTART;TZID=Australia/Sydney:20191119T090000
DTEND;TZID=Australia/Sydney:20191119T130000
DTSTAMP:20260420T024630
CREATED:20190923T005120Z
LAST-MODIFIED:20191111T210013Z
UID:10000185-1574154000-1574168400@www.fmrc.com.au
SUMMARY:Successful Succession and Exit Strategies Brisbane
DESCRIPTION:This intensive workshop will equip you with the skills to ensure a smooth and successful transition of your practice from one generation to the next. \nThe most significant concern for practitioners working in small-medium sized firms or operating as a sole-practitioner centre around issues of succession planning. Well managed\, profitable firms with a solid client base are highly sought after. The owners of these firms need to have a well thought out strategy to fully realise the value tied up in the practice.\nThis workshop has been developed to provide you with a clear understanding of how best to prepare your businesses for sale and implement an effective and robust succession plan.
URL:https://www.fmrc.com.au/event/successful-succession-and-exit-strategies-brisbane-2019
LOCATION:Sofitel Brisbane\, 249 Turbot Street\, Brisbane \, QLD\, 4000\, Australia
CATEGORIES:Successful Succession And Exit Strategies
GEO:-27.4655748;153.0263772
X-APPLE-STRUCTURED-LOCATION;VALUE=URI;X-ADDRESS=Sofitel Brisbane 249 Turbot Street Brisbane  QLD 4000 Australia;X-APPLE-RADIUS=500;X-TITLE=249 Turbot Street:geo:153.0263772,-27.4655748
END:VEVENT
BEGIN:VEVENT
DTSTART;TZID=Australia/Sydney:20181120T090000
DTEND;TZID=Australia/Sydney:20181120T130000
DTSTAMP:20260420T024630
CREATED:20180918T055239Z
LAST-MODIFIED:20181108T040741Z
UID:10000045-1542704400-1542718800@www.fmrc.com.au
SUMMARY:Successful Succession and Exit Strategies Parramatta
DESCRIPTION:This intensive workshop will equip you with the skills to ensure a smooth and successful transition of your practice from one generation to the next. \nThe most significant concern for practitioners working in small-medium sized firms or operating as a sole-practitioner centre around issues of succession planning. Well managed\, profitable firms with a solid client base are highly sought after. The owners of these firms need to have a well thought out strategy to fully realise the value tied up in the practice.\nThis workshop has been developed to provide you with a clear understanding of how best to prepare your businesses for sale and implement an effective and robust succession plan.
URL:https://www.fmrc.com.au/event/successful-succession-and-exit-strategies-parramatta
LOCATION:Novotel Sydney Parramatta\, 350 Church Street\, Parramatta\, New South Wales\, 2150\, Australia
CATEGORIES:Successful Succession And Exit Strategies
GEO:-33.8103877;151.0057028
X-APPLE-STRUCTURED-LOCATION;VALUE=URI;X-ADDRESS=Novotel Sydney Parramatta 350 Church Street Parramatta New South Wales 2150 Australia;X-APPLE-RADIUS=500;X-TITLE=350 Church Street:geo:151.0057028,-33.8103877
END:VEVENT
BEGIN:VEVENT
DTSTART;TZID=Australia/Sydney:20180918T090000
DTEND;TZID=Australia/Sydney:20180918T130000
DTSTAMP:20260420T024630
CREATED:20180618T021648Z
LAST-MODIFIED:20180905T212626Z
UID:10000169-1537261200-1537275600@www.fmrc.com.au
SUMMARY:Successful Succession and Exit Strategies Brisbane
DESCRIPTION:This intensive workshop will equip you with the skills to ensure a smooth and successful transition of your practice from one generation to the next. \nThe most significant concern for practitioners working in small-medium sized firms or operating as a sole-practitioner centre around issues of succession planning. Well managed\, profitable firms with a solid client base are highly sought after. The owners of these firms need to have a well thought out strategy to fully realise the value tied up in the practice.\nThis workshop has been developed to provide you with a clear understanding of how best to prepare your businesses for sale and implement an effective and robust succession plan.
URL:https://www.fmrc.com.au/event/successful-succession-and-exit-strategies-brisbane
LOCATION:Hilton Brisbane\, 190 Elizabeth Street\, Brisbane\, Queensland\, 4000\, Australia
CATEGORIES:Successful Succession And Exit Strategies
GEO:-27.4691468;153.0270444
X-APPLE-STRUCTURED-LOCATION;VALUE=URI;X-ADDRESS=Hilton Brisbane 190 Elizabeth Street Brisbane Queensland 4000 Australia;X-APPLE-RADIUS=500;X-TITLE=190 Elizabeth Street:geo:153.0270444,-27.4691468
END:VEVENT
BEGIN:VEVENT
DTSTART;TZID=Australia/Sydney:20180917T090000
DTEND;TZID=Australia/Sydney:20180917T130000
DTSTAMP:20260420T024630
CREATED:20180618T021054Z
LAST-MODIFIED:20180905T212911Z
UID:10000168-1537174800-1537189200@www.fmrc.com.au
SUMMARY:Successful Succession and Exit Strategies Auckland
DESCRIPTION:This intensive workshop will equip you with the skills to ensure a smooth and successful transition of your practice from one generation to the next. \nThe most significant concern for practitioners working in small-medium sized firms or operating as a sole-practitioner centre around issues of succession planning. Well managed\, profitable firms with a solid client base are highly sought after. The owners of these firms need to have a well thought out strategy to fully realise the value tied up in the practice.\nThis workshop has been developed to provide you with a clear understanding of how best to prepare your businesses for sale and implement an effective and robust succession plan.
URL:https://www.fmrc.com.au/event/successful-succession-and-exit-strategies-auckland
LOCATION:Grand Mercure Auckland\, 8 Customs Street\, Auckland\, 1010\, New Zealand
CATEGORIES:Successful Succession And Exit Strategies
GEO:-36.8445017;174.7672148
X-APPLE-STRUCTURED-LOCATION;VALUE=URI;X-ADDRESS=Grand Mercure Auckland 8 Customs Street Auckland 1010 New Zealand;X-APPLE-RADIUS=500;X-TITLE=8 Customs Street:geo:174.7672148,-36.8445017
END:VEVENT
BEGIN:VEVENT
DTSTART;TZID=Australia/Sydney:20180821T090000
DTEND;TZID=Australia/Sydney:20180821T130000
DTSTAMP:20260420T024630
CREATED:20180618T020153Z
LAST-MODIFIED:20180817T073543Z
UID:10000167-1534842000-1534856400@www.fmrc.com.au
SUMMARY:Successful Succession and Exit Strategies Sydney
DESCRIPTION:This intensive workshop will equip you with the skills to ensure a smooth and successful transition of your practice from one generation to the next. \nThe most significant concern for practitioners working in small-medium sized firms or operating as a sole-practitioner centre around issues of succession planning. Well managed\, profitable firms with a solid client base are highly sought after. The owners of these firms need to have a well thought out strategy to fully realise the value tied up in the practice.\nThis workshop has been developed to provide you with a clear understanding of how best to prepare your businesses for sale and implement an effective and robust succession plan.
URL:https://www.fmrc.com.au/event/successful-succession-and-exit-strategies-sydney
LOCATION:Chartered Accountants Australia and NZ\, 33 Erskine Street\, Sydney\, New South Wales\, 2000\, Australia
CATEGORIES:Successful Succession And Exit Strategies
GEO:-33.867021;151.203843
X-APPLE-STRUCTURED-LOCATION;VALUE=URI;X-ADDRESS=Chartered Accountants Australia and NZ 33 Erskine Street Sydney New South Wales 2000 Australia;X-APPLE-RADIUS=500;X-TITLE=33 Erskine Street:geo:151.203843,-33.867021
END:VEVENT
BEGIN:VEVENT
DTSTART;TZID=Australia/Sydney:20180820T090000
DTEND;TZID=Australia/Sydney:20180820T130000
DTSTAMP:20260420T024630
CREATED:20180618T015859Z
LAST-MODIFIED:20180618T015859Z
UID:10000040-1534755600-1534770000@www.fmrc.com.au
SUMMARY:Successful Succession and Exit Strategies Melbourne
DESCRIPTION:This intensive workshop will equip you with the skills to ensure a smooth and successful transition of your practice from one generation to the next. \nThe most significant concern for practitioners working in small-medium sized firms or operating as a sole-practitioner centre around issues of succession planning. Well managed\, profitable firms with a solid client base are highly sought after. The owners of these firms need to have a well thought out strategy to fully realise the value tied up in the practice.\nThis workshop has been developed to provide you with a clear understanding of how best to prepare your businesses for sale and implement an effective and robust succession plan.
URL:https://www.fmrc.com.au/event/successful-succession-and-exit-strategies-melbourne
LOCATION:RACV City Club\, 501 Bourke Street\, Melbourne\, Victoria\, 3000\, Australia
CATEGORIES:Successful Succession And Exit Strategies
GEO:-37.8158872;144.9595931
X-APPLE-STRUCTURED-LOCATION;VALUE=URI;X-ADDRESS=RACV City Club 501 Bourke Street Melbourne Victoria 3000 Australia;X-APPLE-RADIUS=500;X-TITLE=501 Bourke Street:geo:144.9595931,-37.8158872
END:VEVENT
END:VCALENDAR