BEGIN:VCALENDAR
VERSION:2.0
PRODID:-//FMRC - ECPv4.6.20.1//NONSGML v1.0//EN
CALSCALE:GREGORIAN
METHOD:PUBLISH
X-WR-CALNAME:FMRC
X-ORIGINAL-URL:https://www.fmrc.com.au
X-WR-CALDESC:Events for FMRC
BEGIN:VEVENT
DTSTART;TZID=Australia/Sydney:20200324T083000
DTEND;TZID=Australia/Sydney:20200326T180000
DTSTAMP:20200228T110253
CREATED:20190711T055320Z
LAST-MODIFIED:20190924T044913Z
UID:7411-1585038600-1585245600@www.fmrc.com.au
SUMMARY:Large Firms / 35+ Principals March 2020
DESCRIPTION:You will examine the strategic management issues relevant to new partners of\nAustralia’s largest legal firms. A separate program has been devised for this course. \nFor details see www.fmrc.com.au. Key areas covered are: \n\nFinancial performance\nManaging staff\nPartnership issues\nProfessional conduct issues\n\n
URL:https://www.fmrc.com.au/event/large-firms-35-principals-mar-2020/
LOCATION:33 Erskine Street\, Sydney\, New South Wales\, 2000\, Australia
GEO:-33.867021;151.203843
X-APPLE-STRUCTURED-LOCATION;VALUE=URI;X-ADDRESS=33 Erskine Street Sydney New South Wales 2000 Australia;X-APPLE-RADIUS=500;X-TITLE=33 Erskine Street:geo:151.203843,-33.867021
CATEGORIES:Large Firms / 35+ Principals,NSW UPC
END:VEVENT
BEGIN:VEVENT
DTSTART;TZID=Australia/Sydney:20200407T083000
DTEND;TZID=Australia/Sydney:20200409T180000
DTSTAMP:20200228T110253
CREATED:20190924T045757Z
LAST-MODIFIED:20191106T000850Z
UID:7726-1586248200-1586455200@www.fmrc.com.au
SUMMARY:Sole Principal / Incorporated Legal Practice April 2020
DESCRIPTION:\nLearn the systems essential for running a successful sole practice. This highly practical course provides you with the skill set necessary to achieve your aims. Leave the course with a properly constructed business plan for your practice.\nThis plan will cover the key operational areas of: \n\nStrategic direction\nFinancial management\nPractice development\nPeople management\n\n \nSpecial Feature – Ongoing financial management support\nFree access to the FMRC Legal Business Monitor which allows you to: \n\nBenchmark the performance of your firm against KPI’s from the FMRC database;\nCalculate the cost of production of the fee earners in your firm; and\nProvide online practice management training for you and your staff.\n\n \n
URL:https://www.fmrc.com.au/event/sole-principal-ilp-apr-2020/
LOCATION:33 Erskine Street\, Sydney\, New South Wales\, 2000\, Australia
GEO:-33.867021;151.203843
X-APPLE-STRUCTURED-LOCATION;VALUE=URI;X-ADDRESS=33 Erskine Street Sydney New South Wales 2000 Australia;X-APPLE-RADIUS=500;X-TITLE=33 Erskine Street:geo:151.203843,-33.867021
CATEGORIES:NSW UPC,Sole Principals / Incorporated Legal Practice
END:VEVENT
BEGIN:VEVENT
DTSTART;TZID=Australia/Sydney:20200519T083000
DTEND;TZID=Australia/Sydney:20200521T180000
DTSTAMP:20200228T110253
CREATED:20190924T052540Z
LAST-MODIFIED:20190924T052540Z
UID:7739-1589877000-1590084000@www.fmrc.com.au
SUMMARY:Small Firms / 2-34 Principals May 2020
DESCRIPTION:\nThis program focuses on increasing the managerial skill set of new and aspiring partners.\nYou will know how to contribute effectively to the partnership from a fee generation and\nbusiness management perspective. Key topics include: \n\nFinancial mechanics of a legal practice and how they are applied to your firm\nBuilding an enviable client base that results in constant referrals\nPartnership management issues to enable you to drive the performance of your fellow partners\n\n \nSpecial Feature – Ongoing financial management support\nFree access to the FMRC Legal Business Monitor which allows you to: \n\nBenchmark the performance of your firm against KPI’s from the FMRC database;\nCalculate the cost of production of the fee earners in your firm; and\nProvide online practice management training for you and your staff.\n\n \n
URL:https://www.fmrc.com.au/event/small-firms-2-34-principals-may-2020/
LOCATION:33 Erskine Street\, Sydney\, New South Wales\, 2000\, Australia
GEO:-33.867021;151.203843
X-APPLE-STRUCTURED-LOCATION;VALUE=URI;X-ADDRESS=33 Erskine Street Sydney New South Wales 2000 Australia;X-APPLE-RADIUS=500;X-TITLE=33 Erskine Street:geo:151.203843,-33.867021
CATEGORIES:NSW UPC,Small Firms / 2 – 34 Principals
END:VEVENT
BEGIN:VEVENT
DTSTART;TZID=Australia/Sydney:20200602T083000
DTEND;TZID=Australia/Sydney:20200604T180000
DTSTAMP:20200228T110253
CREATED:20190923T020846Z
LAST-MODIFIED:20190924T044814Z
UID:7695-1591086600-1591293600@www.fmrc.com.au
SUMMARY:Large Firms / 35+ Principals June 2020
DESCRIPTION:You will examine the strategic management issues relevant to new partners of\nAustralia’s largest legal firms. A separate program has been devised for this course. \nFor details see www.fmrc.com.au. Key areas covered are: \n\nFinancial performance\nManaging staff\nPartnership issues\nProfessional conduct issues\n\n
URL:https://www.fmrc.com.au/event/large-firms-35-principals-june-2020/
LOCATION:33 Erskine Street\, Sydney\, New South Wales\, 2000\, Australia
GEO:-33.867021;151.203843
X-APPLE-STRUCTURED-LOCATION;VALUE=URI;X-ADDRESS=33 Erskine Street Sydney New South Wales 2000 Australia;X-APPLE-RADIUS=500;X-TITLE=33 Erskine Street:geo:151.203843,-33.867021
CATEGORIES:Large Firms / 35+ Principals,NSW UPC
END:VEVENT
BEGIN:VEVENT
DTSTART;TZID=Australia/Sydney:20200721T083000
DTEND;TZID=Australia/Sydney:20200723T180000
DTSTAMP:20200228T110253
CREATED:20190924T050308Z
LAST-MODIFIED:20191106T000955Z
UID:7729-1595320200-1595527200@www.fmrc.com.au
SUMMARY:Sole Principal / Incorporated Legal Practice July 2020
DESCRIPTION:\nLearn the systems essential for running a successful sole practice. This highly practical course provides you with the skill set necessary to achieve your aims. Leave the course with a properly constructed business plan for your practice.\nThis plan will cover the key operational areas of: \n\nStrategic direction\nFinancial management\nPractice development\nPeople management\n\n \nSpecial Feature – Ongoing financial management support\nFree access to the FMRC Legal Business Monitor which allows you to: \n\nBenchmark the performance of your firm against KPI’s from the FMRC database;\nCalculate the cost of production of the fee earners in your firm; and\nProvide online practice management training for you and your staff.\n\n \n
URL:https://www.fmrc.com.au/event/sole-principal-ilp-jul-2020/
LOCATION:33 Erskine Street\, Sydney\, New South Wales\, 2000\, Australia
GEO:-33.867021;151.203843
X-APPLE-STRUCTURED-LOCATION;VALUE=URI;X-ADDRESS=33 Erskine Street Sydney New South Wales 2000 Australia;X-APPLE-RADIUS=500;X-TITLE=33 Erskine Street:geo:151.203843,-33.867021
CATEGORIES:NSW UPC,Sole Principals / Incorporated Legal Practice
END:VEVENT
BEGIN:VEVENT
DTSTART;TZID=Australia/Sydney:20200825T083000
DTEND;TZID=Australia/Sydney:20200827T180000
DTSTAMP:20200228T110253
CREATED:20190924T052804Z
LAST-MODIFIED:20190924T052804Z
UID:7742-1598344200-1598551200@www.fmrc.com.au
SUMMARY:Small Firms / 2-34 Principals August 2020
DESCRIPTION:\nThis program focuses on increasing the managerial skill set of new and aspiring partners.\nYou will know how to contribute effectively to the partnership from a fee generation and\nbusiness management perspective. Key topics include: \n\nFinancial mechanics of a legal practice and how they are applied to your firm\nBuilding an enviable client base that results in constant referrals\nPartnership management issues to enable you to drive the performance of your fellow partners\n\n \nSpecial Feature – Ongoing financial management support\nFree access to the FMRC Legal Business Monitor which allows you to: \n\nBenchmark the performance of your firm against KPI’s from the FMRC database;\nCalculate the cost of production of the fee earners in your firm; and\nProvide online practice management training for you and your staff.\n\n \n
URL:https://www.fmrc.com.au/event/small-firms-2-34-principals-aug-2020-2/
LOCATION:33 Erskine Street\, Sydney\, New South Wales\, 2000\, Australia
GEO:-33.867021;151.203843
X-APPLE-STRUCTURED-LOCATION;VALUE=URI;X-ADDRESS=33 Erskine Street Sydney New South Wales 2000 Australia;X-APPLE-RADIUS=500;X-TITLE=33 Erskine Street:geo:151.203843,-33.867021
CATEGORIES:NSW UPC,Small Firms / 2 – 34 Principals
END:VEVENT
BEGIN:VEVENT
DTSTART;TZID=Australia/Sydney:20201013T083000
DTEND;TZID=Australia/Sydney:20201015T180000
DTSTAMP:20200228T110253
CREATED:20190924T050845Z
LAST-MODIFIED:20191004T045607Z
UID:7733-1602577800-1602784800@www.fmrc.com.au
SUMMARY:Sole Principal / Incorporated Legal Practice September / October 2020
DESCRIPTION:\nLearn the systems essential for running a successful sole practice. This highly practical course provides you with the skill set necessary to achieve your aims. Leave the course with a properly constructed business plan for your practice.\nThis plan will cover the key operational areas of: \n\nStrategic direction\nFinancial management\nPractice development\nPeople management\n\n \nSpecial Feature – Ongoing financial management support\nFree access to the FMRC Legal Business Monitor which allows you to: \n\nBenchmark the performance of your firm against KPI’s from the FMRC database;\nCalculate the cost of production of the fee earners in your firm; and\nProvide online practice management training for you and your staff.\n\n \n
URL:https://www.fmrc.com.au/event/sole-principal-ilp-sept-oct-2020/
LOCATION:Sydney CBD\, NSW\, 2000\, Australia
GEO:-33.873651;151.2068896
CATEGORIES:NSW UPC,Sole Principals / Incorporated Legal Practice
END:VEVENT
BEGIN:VEVENT
DTSTART;TZID=Australia/Sydney:20201117T083000
DTEND;TZID=Australia/Sydney:20201119T180000
DTSTAMP:20200228T110253
CREATED:20190924T053056Z
LAST-MODIFIED:20191028T234543Z
UID:7745-1605601800-1605808800@www.fmrc.com.au
SUMMARY:Small Firms / 2-34 Principals November 2020
DESCRIPTION:\nThis program focuses on increasing the managerial skill set of new and aspiring partners.\nYou will know how to contribute effectively to the partnership from a fee generation and\nbusiness management perspective. Key topics include: \n\nFinancial mechanics of a legal practice and how they are applied to your firm\nBuilding an enviable client base that results in constant referrals\nPartnership management issues to enable you to drive the performance of your fellow partners\n\n \nSpecial Feature – Ongoing financial management support\nFree access to the FMRC Legal Business Monitor which allows you to: \n\nBenchmark the performance of your firm against KPI’s from the FMRC database;\nCalculate the cost of production of the fee earners in your firm; and\nProvide online practice management training for you and your staff.\n\n \n
URL:https://www.fmrc.com.au/event/small-firms-2-34-principals-nov-2020/
LOCATION:33 Erskine Street\, Sydney\, New South Wales\, 2000\, Australia
GEO:-33.867021;151.203843
X-APPLE-STRUCTURED-LOCATION;VALUE=URI;X-ADDRESS=33 Erskine Street Sydney New South Wales 2000 Australia;X-APPLE-RADIUS=500;X-TITLE=33 Erskine Street:geo:151.203843,-33.867021
CATEGORIES:NSW UPC,Small Firms / 2 – 34 Principals
END:VEVENT
END:VCALENDAR